BEGIN:VCALENDAR
VERSION:2.0
PRODID:-//ChurchDev//Events//EN
CALSCALE:GREGORIAN
METHOD:PUBLISH
BEGIN:VEVENT
UID:3501-20260201@www.yourturningpointchurch.org
SUMMARY:Inclement Weather: Zoom Worship Service
DTSTART:20260201T144500Z
DTEND:20260201T163000Z
DESCRIPTION:Due to inclement weather\, we will be using Zoom for our weekly worship service.\\n\\nJoin Zoom Meeting LINK or\\nhttps://us02web.zoom.us/j/9542123834?pwd=cGw2WitvZ3lJTHFyWVJKMmNjNHc2Zz09&amp\;omn=85843239535\\n\\nMeeting ID: 954 212 3834\\nPasscode: 504953\\n&#8212\;\\nOne tap mobile\\n+16469313860\,\,9542123834# US\\n+19292056099\,\,9542123834# US (New York)\\nJoin instructions\\nhttps://us02web.zoom.us/meetings/85843239535/invitations?signature=iD18nSDX31QOZSiZNY6cAcvajFTh8zTz_LumXDzvtcs\\n\\nhttps://www.yourturningpointchurch.org/events/zoom-worship-service/
URL:https://www.yourturningpointchurch.org/events/zoom-worship-service/
DTSTAMP:20260419T231708Z
END:VEVENT
END:VCALENDAR
